Workbook

Sheet صورت وضعیت
A1: صندوق سرمایه گذاری بخشی صنایع گندم
A2: صورت وضعیت پرتفوی
A3: برای ماه منتهی به 1405/07/30
A7: مدیر صندوق | B7: نماینده
A8: شرکت سبدگردان گندم | B8: خانم ساناز صمدی

Sheet سهام
A1: صندوق سرمایه گذاری بخشی صنایع گندم
A2: صورت وضعیت پرتفوی
A3: برای ماه منتهی به 1405/07/30
A4: -1 | B4: سرمایه گذاری ها
A5: -1-1 | C5: سرمایه گذاری در سهام و حق تقدم سهام
F6: 1405/06/31 | L6: تغییرات طی دوره | T6: 1405/07/30
L7: خرید طی دوره | P7: فروش طی دوره
A8: نام شرکت | E8: تعداد | H8: بهای تمام شده | J8: خالص ارزش فروش | L8: تعداد | N8: بهای تمام شده | P8: تعداد | R8: مبلغ فروش | T8: تعداد | V8: قیمت بازار هر سهم | X8: بهای تمام شده | Z8: خالص ارزش فروش | AB8: درصد به کل دارایی ها
A9: انتقال داده های آسیاتک | E9: 9000000 | H9: 38171418152 | J9: 37061284500 | L9: 0 | N9: 0 | P9: -9000000 | R9: 38932499747 | T9: 0 | V9: 0 | X9: 0 | Z9: 0 | AB9: =Z9/$J$45 -> 0
A10: ایران‌ ترانسفو | E10: 11100000 | H10: 28506616562 | J10: 39100399350 | L10: 8300000 | N10: 32137733673 | P10: 0 | R10: 0 | T10: 19400000 | V10: 4350 | X10: 60644350235 | Z10: 83737665300 | AB10: =Z10/$J$45 -> 0.017732943
A11: برق و انرژی پیوندگستر پارس | E11: 13150000 | H11: 196946196405 | J11: 233304506940 | L11: 1303515 | N11: 24047436758 | P11: -55000 | R11: 1022534241 | T11: 14398515 | V11: 19600 | X11: 220161200805 | Z11: 2.800294e+11 | AB11: =Z11/$J$45 -> 0.059301218
A12: بورس انرژی ایران | E12: 3100000 | H12: 58592527831 | J12: 69333873980 | L12: 3400000 | N12: 76348852892 | P12: -3100000 | R12: 71025694830 | T12: 3400000 | V12: 22170 | X12: 76348852892 | Z12: 74795328060 | AB12: =Z12/$J$45 -> 0.015839244
A13: پارس‌سویچ‌ | E13: 5800000 | H13: 21478885926 | J13: 28718278340 | L13: 1200000 | N13: 6136303643 | P13: 0 | R13: 0 | T13: 7000000 | V13: 5550 | X13: 27615189569 | Z13: 38549689500 | AB13: =Z13/$J$45 -> 0.0081635839
A14: پتروشیمی تندگویان | E14: 1500000 | H14: 17446005479 | J14: 18366917700 | L14: 0 | N14: 0 | P14: -1500000 | R14: 18429087499 | T14: 0 | V14: 0 | X14: 0 | Z14: 0 | AB14: =Z14/$J$45 -> 0
A15: توسعه مسیر برق گیلان | E15: 7117237 | H15: 153574131170 | J15: 1.8432396e+11 | L15: 1201763 | N15: 33372698024 | P15: -239000 | R15: 6382168610 | T15: 8080000 | V15: 29380 | X15: 181789513937 | Z15: 235555372208 | AB15: =Z15/$J$45 -> 0.049883049
A16: توسعه مولد نیروگاهی جهرم | E16: 119200000 | H16: 303595927167 | J16: 359566895360 | L16: 16081684 | N16: 49299672656 | P16: -2700000 | R16: 8263624623 | T16: 132581684 | V16: 3340 | X16: 345947652245 | Z16: 4.393998e+11 | AB16: =Z16/$J$45 -> 0.093050741
A17: تولید برق عسلویه مپنا | E17: 52600000 | H17: 283479690767 | J17: 426942028360 | L17: 9000000 | N17: 67372890530 | P17: 0 | R17: 0 | T17: 61600000 | V17: 8020 | X17: 350852581297 | Z17: 490213132640 | AB17: =Z17/$J$45 -> 0.10381137
A18: تولید نیروی برق آبادان | E18: 2160000 | H18: 22044636587 | J18: 23726366424 | L18: 2614659 | N18: 32603235955 | P18: -30304 | R18: 347004920 | T18: 4744355 | V18: 12830 | X18: 54335361334 | Z18: 6.0399549e+10 | AB18: =Z18/$J$45 -> 0.012790681
A19: تولید نیروی برق دماوند | E19: 24900000 | H19: 276989393221 | J19: 322680250380 | L19: 1430000 | N19: 20754442751 | P19: -4317122 | R19: 56115642948 | T19: 22012878 | V19: 14980 | X19: 249595541224 | Z19: 3.2720392e+11 | AB19: =Z19/$J$45 -> 0.069291263
A20: ح . توسعه‌معادن‌وفلزات‌ | E20: 20000000 | H20: 33555153284 | J20: 34253160400 | L20: 0 | N20: 0 | P20: -20000000 | R20: 0 | T20: 0 | V20: 0 | X20: 0 | Z20: 0 | AB20: =Z20/$J$45 -> 0
... A40: سرمایه گذاری دنیای سرمایه | E40: 0 | H40: 0 | J40: 0 | L40: 3631250 | N40: 13143472179 | P40: 0 | R40: 0 | T40: 3631250 | V40: 5040 | X40: 13143472179 | Z40: 18160029405 | AB40: =Z40/$J$45 -> 0.0038457099
A41: جمع | F41: =SUM(E8:F40) -> 476242347 | H41: =SUM(H9:H40) -> 2504511695001 | J41: =SUM(J9:J40) -> 3.4560819e+12 | L41: =SUM(L9:L40) -> 207231675 | N41: =SUM(N9:N40) -> 1291580644793 | P41: =SUM(P9:P40) -> -145739652 | R41: =SUM(R9:R40) -> 956979079052 | T41: =SUM(T9:T40) -> 537734370 | X41: =SUM(X9:X40) -> 3051759200270 | Z41: =SUM(Z9:Z40) -> 4.2146271e+12 | AB41: =Z41/$J$45 -> 0.89252242
C45: جمع دارایی ها در تاریخ 1405/07/30 به شرح زیر میباشد: | J45: 4722152661779

Sheet واحدهای صندوق
A1: صندوق سرمایه گذاری بخشی صنایع گندم
A2: صورت وضعیت پرتفوی
A3: برای ماه منتهی به 1405/07/30
A5: -1-3 | B5: سرمایه‌گذاری در واحدهای صندوق های سرمایه گذاری
E6: 1405/06/31 | K6: تغییرات طی دوره | S6: 1405/07/30
K7: خرید/صدور طی دوره | O7: فروش/ابطال طی دوره
A8: صندوق | D8: تعداد واحد | G8: بهای تمام شده | I8: خالص ارزش فروش | K8: تعداد | M8: بهای تمام شده | O8: تعداد | Q8: مبلغ فروش | S8: تعداد | U8: قیمت ابطال / بازار هر واحد | W8: بهای تمام شده | Y8: خالص ارزش فروش | AA8: درصد به کل دارایی ها
A9: ص س. پروژه برق خورشیدی | D9: 10000000 | G9: 100072500000 | I9: 99927500000 | K9: 0 | M9: 0 | O9: 0 | Q9: 0 | S9: 10000000 | U9: 10000 | W9: 100072500000 | Y9: 99927500000 | AA9: 2.11
A10: جمع | D10: =SUM(D9) -> 10000000 | G10: =SUM(G9) -> 100072500000 | I10: =SUM(I9) -> 99927500000 | K10: 0 | M10: 0 | O10: 0 | Q10: 0 | S10: =SUM(S9) -> 10000000 | W10: =SUM(W9) -> 100072500000 | Y10: =SUM(Y9) -> 99927500000 | AA10: 2.11

Sheet سپرده
A1: صندوق سرمایه گذاری بخشی صنایع گندم
A2: صورت وضعیت پرتفوی
A3: برای ماه منتهی به 1405/07/30
A5: -4-1 | B5: سرمایه‌گذاری در سپرده‌ بانکی
D6: 1405/06/31 | F6: تغییرات طی دوره | J6: 1405/07/30
A8: سپرده های بانکی | D8: مبلغ | F8: افزایش | H8: کاهش | J8: مبلغ | L8: درصد به کل دارایی ها
A9: سپرده کوتاه مدت بانک گردشگری | D9: 100000 | F9: 0 | H9: 0 | J9: 100000 | L9: =J9/سهام!J45 -> 2.1176783e-08
A10: سپرده کوتاه مدت بانک خاورمیانه | D10: 3906288841 | F10: 16050393 | H10: 693000 | J10: 3921646234 | L10: =J10/سهام!J45 -> 0.00083047849
A11: سپرده کوتاه مدت بانک گردشگری | D11: 381846945864 | F11: 1014429341034 | H11: 1115731330352 | J11: 280544956546 | L11: =J11/سهام!J45 -> 0.059410395
A12: سپرده بلند مدت بانک گردشگری | D12: 0 | F12: 100000000000 | H12: 65000000000 | J12: 35000000000 | L12: =J12/سهام!J45 -> 0.0074118739
A13: جمع | D13: =SUM(D9:D12) -> 385753334705 | F13: =SUM(F9:F12) -> 1114445391427 | H13: =SUM(H9:H12) -> 1180732023352 | J13: =SUM(J9:J12) -> 319466702780 | L13: =SUM(L9:L12) -> 0.067652769

Sheet درآمد
A1: صندوق سرمایه گذاری بخشی صنایع گندم
A2: صورت وضعیت درآمدها
A3: برای ماه منتهی به 1405/07/30
A5: -2 | B5: درآمد حاصل از سرمایه گذاری ها
A7: شرح | D7: یادداشت | F7: مبلغ | H7: درصد از کل درآمدها | J7: درصد از کل دارایی ها
A8: درآمد حاصل از سرمایه گذاری در سهام و حق تقدم سهام | D8: 1-2 | F8: ='درآمد سرمایه گذاری در سهام'!J95 -> 404452510423 | H8: =F8/F13 -> 0.98598525 | J8: =F8/سهام!$J$45 -> 0.085650029
A9: درآمد حاصل از سرمایه گذاری در واحدهای صندوق های سرمایه گذاری | D9: 2-2 | F9: 0 | H9: =F9/F13 -> 0 | J9: =F9/سهام!$J$45 -> 0
A10: درآمد حاصل از سرمایه گذاری در اوراق بهادار با درآمد ثابت | D10: 3-2 | F10: 0 | H10: =F10/F13 -> 0 | J10: =F10/سهام!$J$45 -> 0
A11: درآمد حاصل از سرمایه گذاری در سپرده بانکی و گواهی سپرده | D11: 4-2 | F11: ='درآمد سپرده بانکی'!D17 -> 4652859476 | H11: =F11/F13 -> 0.011342866 | J11: =F11/سهام!$J$45 -> 0.00098532593
A12: سایر درآمدها | D12: 5-2 | F12: ='سایر درآمدها'!D11 -> 1096011103 | H12: =F12/F13 -> 0.0026718855 | J12: =F12/سهام!$J$45 -> 0.00023209989
A13: جمع | F13: =SUM(F8:F12) -> 410201381002 | H13: =SUM(H8:H12) -> 1 | J13: =SUM(J8:J12) -> 0.086867454

Sheet درآمد سرمایه گذاری در سهام
A1: صندوق سرمایه گذاری بخشی صنایع گندم
A2: صورت وضعیت درآمدها
A3: برای ماه منتهی به 1405/07/30
A5: -1-2 | B5: درآمد حاصل از سرمایه­گذاری در سهام و حق تقدم سهام
D6: طی ماه | N6: از ابتدای سال مالی
J7: جمع | T7: جمع
A8: سهام | D8: درآمد سود سهام | F8: درآمد تغییر ارزش | H8: درآمد فروش | J8: مبلغ | L8: درصد از کل درآمدها | N8: درآمد سود سهام | P8: درآمد تغییر ارزش | R8: درآمد فروش | T8: مبلغ | V8: درصد از کل درآمدها
A9: گروه مپنا (سهامی عام) | D9: 0 | F9: -174541183772 | H9: 84257764564 | J9: -90283419208 | L9: =J9/سهام!$J$45 -> -0.019119123 | N9: 14285269461 | P9: 55227013590 | R9: 167577767137 | T9: 237090050188 | V9: 9.24
A10: بورس انرژی ایران | D10: 0 | F10: -12294870981 | H10: 12433166999 | J10: 138296018 | L10: =J10/سهام!$J$45 -> 2.9286647e-05 | N10: 0 | P10: -1553524832 | R10: 23125510096 | T10: 21571985264 | V10: 0.84
A11: شیر پاستوریزه پگاه زنجان | D11: 0 | F11: 0 | H11: 218245 | J11: 218245 | L11: =J11/سهام!$J$45 -> 4.6217269e-08 | N11: 0 | P11: 0 | R11: 218245 | T11: 218245 | V11: 0
A12: توسعه مسیر برق گیلان | D12: 0 | F12: 23016027657 | H12: 1224853353 | J12: 24240881010 | L12: =J12/سهام!$J$45 -> 0.0051334387 | N12: 0 | P12: 53765858271 | R12: 21494936842 | T12: 75260795113 | V12: 2.93
A13: تولید نیروی برق دماوند | D13: 0 | F13: 31917524043 | H13: 7967348200 | J13: 39884872243 | L13: =J13/سهام!$J$45 -> 0.0084463327 | N13: 6745000621 | P13: 77608381202 | R13: 16761519409 | T13: 101114901232 | V13: 3.94
A14: مدیریت انرژی امید تابان هور | D14: 0 | F14: 149816230256 | H14: 30311199892 | J14: 180127430148 | L14: =J14/سهام!$J$45 -> 0.038145194 | N14: 0 | P14: 184432834545 | R14: 27563832356 | T14: 211996666901 | V14: 8.26
A15: پویا زرکان آق دره | D15: 0 | F15: 0 | H15: 169757699 | J15: 169757699 | L15: =J15/سهام!$J$45 -> 3.5949219e-05 | N15: 0 | P15: 0 | R15: 169757699 | T15: 169757699 | V15: 0.01
A16: رایان هم افزا | D16: 0 | F16: -1348872867 | H16: 9378817957 | J16: 8029945090 | L16: =J16/سهام!$J$45 -> 0.001700484 | N16: 4961824953 | P16: 10590843755 | R16: 28757531626 | T16: 44310200334 | V16: 1.73
A17: برق و انرژی پیوندگستر پارس | D17: 0 | F17: 23509892449 | H17: 190101883 | J17: 23699994332 | L17: =J17/سهام!$J$45 -> 0.0050188963 | N17: 8357282250 | P17: 59868202984 | R17: 6343571192 | T17: 74569056426 | V17: 2.91
A18: ح . توسعه‌معادن‌وفلزات‌ | D18: 0 | F18: 0 | H18: 0 | J18: 0 | L18: =J18/سهام!$J$45 -> 0 | N18: 0 | P18: 0 | R18: 0 | T18: 0 | V18: 0
A19: پتروشیمی تندگویان | D19: 0 | F19: 0 | H19: 983082020 | J19: 983082020 | L19: =J19/سهام!$J$45 -> 0.00020818514 | N19: 0 | P19: 0 | R19: 983082020 | T19: 983082020 | V19: 0.04
A20: تولید نیروی برق آبادان | D20: 0 | F20: 4382457801 | H20: 34493712 | J20: 4416951513 | L20: =J20/سهام!$J$45 -> 0.00093536822 | N20: 0 | P20: 6064187638 | R20: 402557745 | T20: 6466745383 | V20: 0.25
... A94: کشاورزی و دامپروری بینالود | D94: 0 | F94: -58322602 | H94: 0 | J94: -58322602 | L94: =J94/سهام!$J$45 -> -1.2350851e-05 | N94: 0 | P94: -58322602 | R94: 0 | T94: -58322602 | V94: 0
A95: جمع | D95: 0 | F95: =SUM(F9:F94) -> 206765968364 | H95: =SUM(H9:H94) -> 197686542059 | J95: =SUM(J9:J94) -> 404452510423 | L95: =SUM(L9:L94) -> 0.085650029 | N95: 116574712239 | P95: 1157827306310 | R95: 910543278563 | T95: 2184945297112 | V95: 85.15

Sheet درآمد سرمایه گذاری در صندوق
A1: صندوق سرمایه گذاری بخشی صنایع گندم
A2: صورت وضعیت درآمدها
A3: برای ماه منتهی به 1405/07/30
A5: -2-2 | B5: درآمد حاصل از سرمایه­گذاری در واحدهای صندوق
D6: طی ماه | N6: از ابتدای سال مالی
J7: جمع | T7: جمع
A8: صندوق | D8: درآمد سود صندوق | F8: درآمد تغییر ارزش | H8: درآمد فروش | J8: مبلغ | L8: درصد از کل درآمدها | N8: درآمد سود صندوق | P8: درآمد تغییر ارزش | R8: درآمد فروش | T8: مبلغ | V8: درصد از کل درآمدها
A9: صندوق ص.س. املاک و مستغلات امین شهر | D9: 0 | F9: 0 | H9: 0 | J9: 0 | L9: 0 | N9: 0 | P9: 0 | R9: 2031653143 | T9: 2031653143 | V9: 0.08
A10: ص س. پروژه برق خورشیدی | D10: 0 | F10: 0 | H10: 0 | J10: 0 | L10: 0 | N10: 0 | P10: -144999999 | R10: 0 | T10: -144999999 | V10: -0.01
A11: جمع | D11: 0 | F11: 0 | H11: 0 | J11: 0 | L11: 0 | N11: 0 | P11: =SUM(P9:P10) -> -144999999 | R11: =SUM(R9:R10) -> 2031653143 | T11: =SUM(T9:T10) -> 1886653144 | V11: 0.07

Sheet درآمد سرمایه گذاری در اوراق به
A1: صندوق سرمایه گذاری بخشی صنایع گندم
A2: صورت وضعیت درآمدها
A3: برای ماه منتهی به 1405/07/30
A5: -3-2 | B5: درآمد حاصل از سرمایه­گذاری در اوراق بهادار با درآمد ثابت:
D6: طی ماه | L6: از ابتدای سال مالی
A8: عنوان | D8: درآمد سود اوراق | F8: درآمد تغییر ارزش | H8: درآمد فروش | J8: جمع | L8: درآمد سود اوراق | N8: درآمد تغییر ارزش | P8: درآمد فروش | R8: جمع
A9: مرابحه عام دولت264-ش.خ070523 | D9: 0 | F9: 0 | H9: 0 | J9: 0 | L9: 4433379265 | N9: 0 | P9: 3787002298 | R9: 8220381563
A10: جمع | D10: 0 | F10: 0 | H10: 0 | J10: 0 | L10: 4433379265 | N10: 0 | P10: 3787002298 | R10: 8220381563

Sheet درآمد سپرده بانکی
A1: صندوق سرمایه گذاری بخشی صنایع گندم
A2: صورت وضعیت درآمدها
A3: برای ماه منتهی به 1405/07/30
A5: -4-2 | B5: درآمد حاصل از سرمایه­گذاری در سپرده بانکی و گواهی سپرده
D6: طی ماه | H6: از ابتدای سال مالی
A7: نام سپرده بانکی | D7: سود سپرده بانکی و گواهی سپرده | F7: درصد سود به میانگین سپرده | H7: سود سپرده بانکی و گواهی سپرده | J7: درصد سود به میانگین سپرده
A8: سپرده کوتاه مدت بانک گردشگری | D8: 0 | H8: 90741204423
A9: سپرده بلند مدت بانک گردشگری | D9: 0 | H9: 185875643802
A10: سپرده بلند مدت بانک گردشگری | D10: 0 | H10: 2893150681
A11: سپرده بلند مدت بانک گردشگری | D11: 0 | H11: 1901917805
A12: سپرده بلند مدت بانک گردشگری | D12: 0 | H12: 8607123285
A13: سپرده کوتاه مدت بانک خاورمیانه | D13: 16050393 | H13: 35581952
A14: سپرده بلند مدت بانک گردشگری | D14: 0 | H14: 3671232863
A15: سپرده کوتاه مدت بانک گردشگری | D15: 3400603620 | H15: 6686541972
A16: سپرده بلند مدت بانک گردشگری | D16: 1236205463 | H16: 1236205463
A17: جمع | D17: =SUM(D8:D16) -> 4652859476 | H17: =SUM(H8:H16) -> 301648602246

Sheet سایر درآمدها
A1: صندوق سرمایه گذاری بخشی صنایع گندم
A2: صورت وضعیت درآمدها
A3: برای ماه منتهی به 1405/07/30
A5: -5-2 | B5: سایر درآمدها
D6: طی ماه | F6: 1405/07/30
A7: سایر درآمدها | D7: مبلغ | F7: مبلغ
A8: سایر درآمدها | D8: 0 | F8: 0
A9: معین برای سایر درآمدهای تنزیل سود بانک | D9: 0 | F9: 0
A10: تعدیل کارمزد کارگزار | D10: 1096011103 | F10: 7195661579
A11: جمع | D11: 1096011103 | F11: 7195661579

Sheet درآمد سود سهام
A1: صندوق سرمایه گذاری بخشی صنایع گندم
A2: صورت وضعیت درآمدها
A3: برای ماه منتهی به 1405/07/30
A5: درآمد سود سهام
A6: نام سهام | C6: اطلاعات مجمع | I6: طی ماه | O6: از ابتدای سال مالی
C7: تاریخ تشکیل مجمع | E7: تعداد سهام متعلقه در زمان مجمع | G7: سود متعلق به هر سهم | I7: جمع درآمد سود سهام | K7: هزینه تنزیل | M7: خالص درآمد سود سهام | O7: جمع درآمد سود سهام | Q7: هزینه تنزیل | S7: خالص درآمد سود سهام
A8: نوردوقطعات‌ فولادی‌ | C8: 1405/04/21 | E8: 5001383 | G8: 550 | I8: 0 | K8: 0 | M8: 0 | O8: 2750760650 | Q8: 0 | S8: 2750760650
A9: پارس‌سویچ‌ | C9: 1405/04/12 | E9: 7781032 | G9: 80 | I9: 0 | K9: 0 | M9: 0 | O9: 622482560 | Q9: 51612876 | S9: 570869684
A10: گروه مپنا (سهامی عام) | C10: 1405/06/29 | E10: 16340000 | G10: 1000 | I10: 0 | K10: 0 | M10: 0 | O10: 16340000000 | Q10: 2054730539 | S10: 14285269461
A11: صنعتی‌ آما | C11: 1405/04/21 | E11: 3505883 | G11: 264 | I11: 0 | K11: 0 | M11: 0 | O11: 925553112 | Q11: 0 | S11: 925553112
A12: سرمایه‌گذاری‌نیرو | C12: 1405/05/31 | E12: 5300000 | G12: 90 | I12: 0 | K12: 0 | M12: 0 | O12: 477000000 | Q12: 52870889 | S12: 424129111
A13: نیروترانس‌ | C13: 1405/04/27 | E13: 12000000 | G13: 85 | I13: 0 | K13: 0 | M13: 0 | O13: 1020000000 | Q13: 0 | S13: 1020000000
A14: ایران‌ ترانسفو | C14: 1405/04/22 | E14: 35000000 | G14: 210 | I14: 0 | K14: 0 | M14: 0 | O14: 7350000000 | Q14: 651498127 | S14: 6698501873
A15: توسعه‌معادن‌وفلزات‌ | C15: 1405/04/20 | E15: 70000000 | G15: 120 | I15: 0 | K15: 0 | M15: 0 | O15: 8400000000 | Q15: 0 | S15: 8400000000
A16: داروسازی‌زهراوی‌ | C16: 1405/03/30 | E16: 1728711 | G16: 146 | I16: 0 | K16: 0 | M16: 0 | O16: 252391806 | Q16: 0 | S16: 252391806
A17: سیمان‌ بهبهان‌ | C17: 1405/03/24 | E17: 5000000 | G17: 790 | I17: 0 | K17: 0 | M17: 0 | O17: 3950000000 | Q17: 0 | S17: 3950000000
A18: کاشی‌ وسرامیک‌ حافظ‌ | C18: 1405/04/31 | E18: 21000000 | G18: 161 | I18: 0 | K18: 0 | M18: 0 | O18: 3381000000 | Q18: 316903166 | S18: 3064096834
A19: معدنی‌ دماوند | C19: 1405/03/26 | E19: 200000 | G19: 2620 | I19: 0 | K19: 0 | M19: 0 | O19: 524000000 | Q19: 0 | S19: 524000000
... A35: پاریز شرق | C35: 1405/06/18 | E35: 375000 | G35: 300 | I35: 0 | K35: 0 | M35: 0 | O35: 112500000 | Q35: 13494575 | S35: 99005425
A36: جمع | I36: 0 | K36: 0 | M36: 0 | O36: =SUM(O8:O35) -> 125889417798 | Q36: =SUM(Q8:Q35) -> 9314705559 | S36: =SUM(S8:S35) -> 116574712239

Sheet سود اوراق بهادار
A1: صندوق سرمایه گذاری بخشی صنایع گندم
A2: صورت وضعیت درآمدها
A3: برای ماه منتهی به 1405/07/30
A5: سود اوراق بهادار با درآمد ثابت
A6: شرح | J6: طی ماه | P6: از ابتدای سال مالی
C7: تاریخ دریافت سود | E7: تاریخ سررسید | H7: نرخ سود علی الحساب | J7: درآمد سود | L7: هزینه تنزیل | N7: خالص درآمد | P7: درآمد سود | R7: هزینه تنزیل | T7: خالص درآمد
A8: مرابحه عام دولت264-ش.خ070523 | E8: 1407/05/23 | H8: 23 | J8: 0 | L8: 0 | N8: 0 | P8: 4433379265 | R8: 0 | T8: 4433379265
A9: جمع | J9: 0 | L9: 0 | N9: 0 | P9: =SUM(P8) -> 4433379265 | R9: 0 | T9: =SUM(T8) -> 4433379265

Sheet درآمد اعمال اختیار
A1: صندوق سرمایه گذاری بخشی صنایع گندم
A2: صورت وضعیت درآمدها
A3: برای ماه منتهی به 1405/07/30
A5: سود (زیان) ناشی از اعمال اختیار معامله سهام
E7: طی ماه | Y7: از ابتدای سال مالی
A8: نام سهم | C8: نام اختیار | E8: تاریخ اعمال | G8: تعداد | I8: قیمت اعمال | K8: ارزش اعمال | M8: ارزش دفتری اختیار | O8: بهای تمام شده سهم | Q8: کارمزد اعمال | S8: مالیات اعمال | U8: کارمزد فروش اختیار | W8: سود(زیان)اعمال | Y8: سود(زیان)اعمال
A9: فزر1 | C9: ضفزر7281 | E9: 1405/07/26 | G9: 27000 | I9: 26500 | K9: 715500000 | M9: 889731518 | O9: 0 | Q9: 541991 | S9: 0 | U9: 1418195 | W9: 173689527 | Y9: 173689527
A10: فزر1 | C10: ضفزر7291 | E10: 1405/07/19 | G10: 9000 | I10: 60001 | K10: 540009000 | M10: 583747476 | O10: 0 | Q10: 409055 | S10: 0 | U10: 608709 | W10: 43329421 | Y10: 43329421
A11: فزر1 | C11: ضفزر7291 | E11: 1405/07/26 | G11: 3000 | I11: 17508 | K11: 52524000 | M11: 53959095 | O11: 0 | Q11: 39781 | S11: 0 | U11: 608709 | W11: 1395314 | Y11: 43329421
A12: خودرو1 | C12: طخود50531 | G12: 0 | I12: 0 | K12: 0 | M12: 0 | O12: 0 | Q12: 0 | S12: 0 | U12: 0 | W12: 0 | Y12: -964580197
A13: شستا1 | C13: ضستا40421 | G13: 0 | I13: 0 | K13: 0 | M13: 0 | O13: 0 | Q13: 0 | S13: 0 | U13: 0 | W13: 0 | Y13: 8.4533105e+09
A14: جمع | K14: =SUM(K9:K13) -> 1308033000 | M14: =SUM(M9:M13) -> 1527438089 | O14: 0 | Q14: =SUM(Q9:Q13) -> 990827 | S14: 0 | U14: =SUM(U9:U13) -> 2635613 | W14: =SUM(W9:W13) -> 218414262 | Y14: =SUM(Y9:Y13) -> 7.7490787e+09

Sheet سود سپرده بانکی
A1: صندوق سرمایه گذاری بخشی صنایع گندم
A2: صورت وضعیت درآمدها
A3: برای ماه منتهی به 1405/07/30
A5: سود سپرده بانکی
A6: شرح | C6: طی ماه | I6: از ابتدای سال مالی
C7: درآمد سود | E7: هزینه تنزیل | G7: خالص درآمد | I7: درآمد سود | K7: هزینه تنزیل | M7: خالص درآمد
A8: سپرده کوتاه مدت بانک گردشگری | C8: 0 | E8: 0 | G8: 0 | I8: 90741204423 | K8: 0 | M8: 90741204423
A9: سپرده بلند مدت بانک گردشگری | C9: 0 | E9: 0 | G9: 0 | I9: 185875643802 | K9: 4063168 | M9: 185871580634
A10: سپرده بلند مدت بانک گردشگری | C10: 0 | E10: 0 | G10: 0 | I10: 2893150681 | K10: 0 | M10: 2893150681
A11: سپرده بلند مدت بانک گردشگری | C11: 0 | E11: 0 | G11: 0 | I11: 1901917805 | K11: 0 | M11: 1901917805
A12: سپرده بلند مدت بانک گردشگری | C12: 0 | E12: 0 | G12: 0 | I12: 8607123285 | K12: 0 | M12: 8607123285
A13: سپرده کوتاه مدت بانک خاورمیانه | C13: 16050393 | E13: 0 | G13: 16050393 | I13: 35581952 | K13: 0 | M13: 35581952
A14: سپرده بلند مدت بانک گردشگری | C14: 0 | E14: 0 | G14: 0 | I14: 3671232863 | K14: 0 | M14: 3671232863
A15: سپرده کوتاه مدت بانک گردشگری | C15: 3400603620 | E15: 0 | G15: 3400603620 | I15: 6686541972 | K15: 0 | M15: 6686541972
A16: سپرده بلند مدت بانک گردشگری | C16: 1236205463 | E16: 5613522 | G16: 1230591941 | I16: 1236205463 | K16: 5613522 | M16: 1230591941
A17: جمع | C17: =SUM(C8:C16) -> 4652859476 | E17: =SUM(E8:E16) -> 5613522 | G17: =SUM(G8:G16) -> 4647245954 | I17: =SUM(I8:I16) -> 301648602246 | K17: =SUM(K8:K16) -> 9676690 | M17: =SUM(M8:M16) -> 301638925556

Sheet درآمد ناشی از فروش
A1: صندوق سرمایه گذاری بخشی صنایع گندم
A2: صورت وضعیت درآمدها
A3: برای ماه منتهی به 1405/07/30
A5: سود(زیان) حاصل از فروش اوراق بهادار
A6: شرح | C6: طی ماه | K6: از ابتدای سال مالی
C7: تعداد | E7: خالص بهای فروش | G7: ارزش دفتری | I7: سود و زیان ناشی از فروش | K7: تعداد | M7: خالص بهای فروش | O7: ارزش دفتری | Q7: سود و زیان ناشی از فروش
A8: گروه مپنا (سهامی عام) | C8: 49020000 | E8: 497071132532 | G8: 412813367968 | I8: 84257764564 | K8: 56720000 | M8: 718348592896 | O8: 550770825759 | Q8: 167577767137
A9: بورس انرژی ایران | C9: 3100000 | E9: 71025694830 | G9: 58592527831 | I9: 12433166999 | K9: 9000000 | M9: 189573716750 | O9: 166448206654 | Q9: 23125510096
A10: شیر پاستوریزه پگاه زنجان | C10: 110 | E10: 982352 | G10: 764107 | I10: 218245 | K10: 110 | M10: 982352 | O10: 764107 | Q10: 218245
A11: توسعه مسیر برق گیلان | C11: 239000 | E11: 6382168610 | G11: 5157315257 | I11: 1224853353 | K11: 7103655 | M11: 144940003804 | O11: 123445066962 | Q11: 21494936842
A12: تولید نیروی برق دماوند | C12: 4317122 | E12: 56115642948 | G12: 48148294748 | I12: 7967348200 | K12: 17111114 | M12: 199564534828 | O12: 182803015419 | Q12: 16761519409
A13: مدیریت انرژی امید تابان هور | C13: 32406116 | E13: 99098703765 | G13: 68787503873 | I13: 30311199892 | K13: 60285938 | M13: 155170930958 | O13: 127607098602 | Q13: 27563832356
A14: پویا زرکان آق دره | C14: 42000 | E14: 16302500102 | G14: 16132742403 | I14: 169757699 | K14: 42000 | M14: 16302500102 | O14: 16132742403 | Q14: 169757699
A15: رایان هم افزا | C15: 1500000 | E15: 17905512265 | G15: 8526694308 | I15: 9378817957 | K15: 4301704 | M15: 66261975469 | O15: 37504443843 | Q15: 28757531626
A16: برق و انرژی پیوندگستر پارس | C16: 55000 | E16: 1022534241 | G16: 832432358 | I16: 190101883 | K16: 3318702 | M16: 55162899467 | O16: 48819328275 | Q16: 6343571192
A17: ح . توسعه‌معادن‌وفلزات‌ | C17: 20000000 | E17: 33555153284 | G17: 33555153284 | I17: 0 | K17: 20000000 | M17: 33555153284 | O17: 33555153284 | Q17: 0
A18: پتروشیمی تندگویان | C18: 1500000 | E18: 18429087499 | G18: 17446005479 | I18: 983082020 | K18: 1500000 | M18: 18429087499 | O18: 17446005479 | Q18: 983082020
A19: تولید نیروی برق آبادان | C19: 30304 | E19: 347004920 | G19: 312511208 | I19: 34493712 | K19: 1565304 | M19: 14480201412 | O19: 14077643667 | Q19: 402557745
... A88: مرابحه عام دولت264-ش.خ070523 | C88: 0 | E88: 0 | G88: 0 | I88: 0 | K88: 350000 | M88: 281832214563 | O88: 278045212265 | Q88: 3787002298
A89: جمع | C89: =SUM(C8:C88) -> 145739652 | E89: =SUM(E8:E88) -> 990534232336 | G89: =SUM(G8:G88) -> 792847690277 | I89: =SUM(I8:I88) -> 197686542059 | K89: =SUM(K8:K88) -> 696841977 | M89: =SUM(M8:M88) -> 4963358290240 | O89: =SUM(O8:O88) -> 4030922900973 | Q89: =SUM(Q8:Q88) -> 932435389267

Sheet درآمد ناشی از تغییر قیمت اوراق
A1: صندوق سرمایه گذاری بخشی صنایع گندم
A2: صورت وضعیت درآمدها
A3: برای ماه منتهی به 1405/07/30
A5: درآمد ناشی از تغییر قیمت اوراق بهادار
A6: شرح | C6: طی ماه | K6: از ابتدای سال مالی
C7: تعداد | E7: خالص ارزش فروش | G7: ارزش دفتری | I7: سود و زیان ناشی از تغییر قیمت | K7: تعداد | M7: خالص ارزش فروش | O7: ارزش دفتری | Q7: سود و زیان ناشی از تغییر قیمت
A8: پارس‌سویچ‌ | C8: 7000000 | E8: 38549689500 | G8: 34854581983 | I8: 3695107516 | K8: 7000000 | M8: 38549689500 | O8: 27615189569 | Q8: 10934499931
A9: گروه مپنا (سهامی عام) | C9: 16340000 | E9: 164731108688 | G9: 339272292460 | I9: -174541183772 | K9: 16340000 | M9: 164731108688 | O9: 109504095098 | Q9: 55227013590
A10: سرمایه‌گذاری‌نیرو | C10: 3500000 | E10: 14516910100 | G10: 13886816322 | I10: 630093777 | K10: 3500000 | M10: 14516910100 | O10: 8925484944 | Q10: 5591425156
A11: نیروترانس‌ | C11: 10000000 | E11: 40484616000 | G11: 37640622514 | I11: 2843993485 | K11: 10000000 | M11: 40484616000 | O11: 29673795244 | Q11: 10810820756
A12: ایران‌ ترانسفو | C12: 19400000 | E12: 83737665300 | G12: 71238133023 | I12: 12499532276 | K12: 19400000 | M12: 83737665300 | O12: 60644350235 | Q12: 23093315065
A13: ح. گروه مپنا (سهامی عام) | C13: 27540000 | E13: 230094315036 | G13: 204233112826 | I13: 25861202209 | K13: 27540000 | M13: 230094315036 | O13: 204233112826 | Q13: 25861202209
A14: معدنی و صنعتی گل گهر | C14: 16500000 | E14: 63361400850 | G14: 57407526783 | I14: 5953874066 | K14: 16500000 | M14: 63361400850 | O14: 57407526783 | Q14: 5953874066
A15: تولید برق عسلویه مپنا | C15: 61600000 | E15: 490213132640 | G15: 494314918890 | I15: -4101786250 | K15: 61600000 | M15: 490213132640 | O15: 350852581297 | Q15: 139360551343
A16: مدیریت انرژی امید تابان هور | C16: 108582950 | E16: 427742107072 | G16: 277925876816 | I16: 149816230256 | K16: 108582950 | M16: 427742107072 | O16: 243309272527 | Q16: 184432834545
A17: تولید نیروی برق دماوند | C17: 22012878 | E17: 327203922426 | G17: 295286398383 | I17: 31917524043 | K17: 22012878 | M17: 327203922426 | O17: 249595541224 | Q17: 77608381202
A18: سرمایه گذاری مس سرچشمه | C18: 2410015 | E18: 20685485302 | G18: 20907764025 | I18: -222278722 | K18: 2410015 | M18: 20685485302 | O18: 20907764025 | Q18: -222278722
A19: توسعه مسیر برق گیلان | C19: 8080000 | E19: 235555372208 | G19: 212539344550 | I19: 23016027657 | K19: 8080000 | M19: 235555372208 | O19: 181789513937 | Q19: 53765858271
... A34: کشاورزی و دامپروری بینالود | C34: 300000 | E34: 5578541940 | G34: 5636864542 | I34: -58322602 | K34: 300000 | M34: 5578541940 | O34: 5636864542 | Q34: -58322602
A35: جمع | C35: =SUM(C8:C34) -> 547734370 | E35: =SUM(E8:E34) -> 4314554609112 | G35: =SUM(G8:G34) -> 4107788640739 | I35: =SUM(I8:I34) -> 206765968364 | K35: =SUM(K8:K34) -> 547734370 | M35: =SUM(M8:M34) -> 4314554609112 | O35: =SUM(O8:O34) -> 3156872302801 | Q35: =SUM(Q8:R34) -> 1157682306311
